BEGIN:VCALENDAR
VERSION:2.0
PRODID:-//TYPO3/NONSGML News system (news)//EN
BEGIN:VEVENT
TZID:Central Europe Standard Time
UID:news-58888@lfo.mb.tu-dortmund.de
DTSTAMP:20260318T065217Z

DTSTART:20251208T114220
DTEND:20251208T114220


DESCRIPTION:https://lfo.mb.tu-dortmund.de/veranstaltungsdetail/digitaler-zwilling-fuer-den-einsatz-von-autonomer-mobiler-robotik-58888/
SUMMARY:Digitaler Zwilling für den Einsatz von Autonomer Mobiler Robotik
END:VEVENT
BEGIN:VEVENT
TZID:Central Europe Standard Time
UID:news-58106@lfo.mb.tu-dortmund.de
DTSTAMP:20260318T065259Z

DTSTART:20251117T121249
DTEND:20251117T121249


DESCRIPTION:https://lfo.mb.tu-dortmund.de/veranstaltungsdetail/austausch-zu-autonomen-prozessketten-im-flextools-projekt-58106/
SUMMARY:Austausch zu autonomen Prozessketten im FlexTools-Projekt
END:VEVENT
BEGIN:VEVENT
TZID:Central Europe Standard Time
UID:news-56987@lfo.mb.tu-dortmund.de
DTSTAMP:20260318T070137Z

DTSTART:20251014T090341
DTEND:20251014T090341


DESCRIPTION:https://lfo.mb.tu-dortmund.de/veranstaltungsdetail/df2-2025-in-heilbronn-56987/
SUMMARY:DF² 2025 in Heilbronn
END:VEVENT
BEGIN:VEVENT
TZID:Central Europe Standard Time
UID:news-56116@lfo.mb.tu-dortmund.de
DTSTAMP:20260318T070154Z

DTSTART:20250917T140836
DTEND:20250917T140836


DESCRIPTION:https://lfo.mb.tu-dortmund.de/veranstaltungsdetail/impulse-fuer-die-dienstleistungsforschung-56116/
SUMMARY:Impulse für die Dienstleistungsforschung
END:VEVENT
BEGIN:VEVENT
TZID:Central Europe Standard Time
UID:news-56114@lfo.mb.tu-dortmund.de
DTSTAMP:20260318T063013Z

DTSTART:20250917T135346
DTEND:20250917T135346


DESCRIPTION:https://lfo.mb.tu-dortmund.de/veranstaltungsdetail/the-third-white-paper-of-expertise-was-published-56114/
SUMMARY:The third white paper of EXPERTISE was published
END:VEVENT
BEGIN:VEVENT
TZID:Central Europe Standard Time
UID:news-55988@lfo.mb.tu-dortmund.de
DTSTAMP:20260318T065328Z

DTSTART:20250912T154431
DTEND:20250912T154431


DESCRIPTION:https://lfo.mb.tu-dortmund.de/veranstaltungsdetail/flextools-whitepaper-erschienen-55988/
SUMMARY:FlexTools Whitepaper erschienen
END:VEVENT
BEGIN:VEVENT
TZID:Central Europe Standard Time
UID:news-52828@lfo.mb.tu-dortmund.de
DTSTAMP:20260318T065413Z

DTSTART:20250519T070437
DTEND:20250519T070437


DESCRIPTION:https://lfo.mb.tu-dortmund.de/veranstaltungsdetail/was-bedeutet-eigentlich-autonome-mobile-robotik-in-brownfield-in-der-realitaet-52828/
SUMMARY:Was bedeutet eigentlich Autonome mobile Robotik in Brownfield – in der Realität?
END:VEVENT
BEGIN:VEVENT
TZID:Central Europe Standard Time
UID:news-57699@lfo.mb.tu-dortmund.de
DTSTAMP:20260318T065434Z

DTSTART:20250516T084000
DTEND:20250516T084000


DESCRIPTION:https://lfo.mb.tu-dortmund.de/veranstaltungsdetail/reinforcement-learning-for-amr-charging-decisions-the-impact-of-reward-and-action-space-design-57699/
SUMMARY:Reinforcement Learning for AMR Charging Decisions: The Impact of Reward and Action Space Design
END:VEVENT
BEGIN:VEVENT
TZID:Central Europe Standard Time
UID:news-57696@lfo.mb.tu-dortmund.de
DTSTAMP:20260318T065453Z

DTSTART:20250501T082600
DTEND:20250501T082600


DESCRIPTION:https://lfo.mb.tu-dortmund.de/veranstaltungsdetail/a-constraint-programming-approach-for-the-multi-robot-multibay-unit-load-pre-marshalling-problem-57696/
SUMMARY:A Constraint Programming Approach for the Multi-Robot Multibay Unit Load Pre-marshalling Problem 
END:VEVENT
BEGIN:VEVENT
TZID:Central Europe Standard Time
UID:news-57700@lfo.mb.tu-dortmund.de
DTSTAMP:20260318T065511Z

DTSTART:20250305T084400
DTEND:20250305T084400


DESCRIPTION:https://lfo.mb.tu-dortmund.de/veranstaltungsdetail/leveraging-large-language-models-to-develop-heuristics-for-emerging-optimization-problems-57700/
SUMMARY:Leveraging large language models to develop heuristics for emerging optimization problems 
END:VEVENT
BEGIN:VEVENT
TZID:Central Europe Standard Time
UID:news-50632@lfo.mb.tu-dortmund.de
DTSTAMP:20260318T070113Z

DTSTART:20250227T102600
DTEND:20250227T102600


DESCRIPTION:https://lfo.mb.tu-dortmund.de/veranstaltungsdetail/impulsvortrag-zur-zukunft-der-digitalen-supply-chains-wie-einheitliche-standards-medienbrueche-verhindern-koennen-50632/
SUMMARY:Impulsvortrag zur Zukunft der digitalen Supply Chains - wie einheitliche Standards Medienbrüche verhindern können.
END:VEVENT
BEGIN:VEVENT
TZID:Central Europe Standard Time
UID:news-49885@lfo.mb.tu-dortmund.de
DTSTAMP:20260318T065531Z

DTSTART:20250114T124700
DTEND:20250114T124700


DESCRIPTION:https://lfo.mb.tu-dortmund.de/veranstaltungsdetail/halbzeitmeilenstein-erreicht-49885/
SUMMARY:Halbzeitmeilenstein erreicht!
END:VEVENT
BEGIN:VEVENT
TZID:Central Europe Standard Time
UID:news-49884@lfo.mb.tu-dortmund.de
DTSTAMP:20260318T065555Z

DTSTART:20241217T123800
DTEND:20241217T123800


DESCRIPTION:https://lfo.mb.tu-dortmund.de/veranstaltungsdetail/flextools-workshop-bei-tuenkers-49884/
SUMMARY:FlexTools Workshop bei Tünkers
END:VEVENT
END:VCALENDAR
