BEGIN:VCALENDAR
VERSION:2.0
PRODID:-//TYPO3/NONSGML News system (news)//EN
BEGIN:VEVENT
TZID:Central Europe Standard Time
UID:news-47615@lfo.mb.tu-dortmund.de
DTSTAMP:20260318T065623Z

DTSTART:20241023T153800
DTEND:20241023T153800


DESCRIPTION:https://lfo.mb.tu-dortmund.de/veranstaltungsdetail/flextools-publikation-bausteinkasten-zur-einfuehrung-flexibler-mobiler-robotik-erschienen-47615/
SUMMARY:Bausteinkasten zur Einführung flexibler mobiler Robotik
END:VEVENT
BEGIN:VEVENT
TZID:Central Europe Standard Time
UID:news-49852@lfo.mb.tu-dortmund.de
DTSTAMP:20260318T063331Z

DTSTART:20241011T085200
DTEND:20241011T085200


DESCRIPTION:https://lfo.mb.tu-dortmund.de/veranstaltungsdetail/expertise-survey-wp3-49852/
SUMMARY:EXPERTISE survey WP3
END:VEVENT
BEGIN:VEVENT
TZID:Central Europe Standard Time
UID:news-57697@lfo.mb.tu-dortmund.de
DTSTAMP:20260318T065649Z

DTSTART:20240928T083000
DTEND:20240928T083000


DESCRIPTION:https://lfo.mb.tu-dortmund.de/veranstaltungsdetail/the-static-buffer-reshuffling-and-retrieval-problem-for-autonomous-mobile-robots-57697/
SUMMARY:The Static Buffer Reshuffling and Retrieval Problem for Autonomous Mobile Robots 
END:VEVENT
BEGIN:VEVENT
TZID:Central Europe Standard Time
UID:news-49882@lfo.mb.tu-dortmund.de
DTSTAMP:20260318T065717Z

DTSTART:20240923T123600
DTEND:20240923T123600


DESCRIPTION:https://lfo.mb.tu-dortmund.de/veranstaltungsdetail/flextools-auf-der-fts-fachtagung-49882/
SUMMARY:FlexTools auf der FTS Fachtagung
END:VEVENT
BEGIN:VEVENT
TZID:Central Europe Standard Time
UID:news-49880@lfo.mb.tu-dortmund.de
DTSTAMP:20260318T065738Z

DTSTART:20240923T123200
DTEND:20240923T123200


DESCRIPTION:https://lfo.mb.tu-dortmund.de/veranstaltungsdetail/flextools-auf-dem-open-house-day-am-fraunhofer-iml-49880/
SUMMARY:FlexTools auf dem Open House Day am Fraunhofer IML
END:VEVENT
BEGIN:VEVENT
TZID:Central Europe Standard Time
UID:news-49878@lfo.mb.tu-dortmund.de
DTSTAMP:20260318T065811Z

DTSTART:20240908T122400
DTEND:20240908T122400


DESCRIPTION:https://lfo.mb.tu-dortmund.de/veranstaltungsdetail/max-disselnmeyer-praesentiert-forschungsergebnisse-auf-der-iccl-mexiko-49878/
SUMMARY:Max Disselnmeyer Präsentiert Forschungsergebnisse auf der ICCL, Mexiko
END:VEVENT
BEGIN:VEVENT
TZID:Central Europe Standard Time
UID:news-57698@lfo.mb.tu-dortmund.de
DTSTAMP:20260318T065835Z

DTSTART:20240908T083600
DTEND:20240908T083600


DESCRIPTION:https://lfo.mb.tu-dortmund.de/veranstaltungsdetail/sorting-multibay-block-stacking-storage-systems-with-multiple-robots-57698/
SUMMARY:Sorting Multibay Block Stacking Storage Systems with Multiple Robots 
END:VEVENT
BEGIN:VEVENT
TZID:Central Europe Standard Time
UID:news-49874@lfo.mb.tu-dortmund.de
DTSTAMP:20260318T065856Z

DTSTART:20240812T114700
DTEND:20240812T114700


DESCRIPTION:https://lfo.mb.tu-dortmund.de/veranstaltungsdetail/1-konsortialtreffen-des-flextools-projekts-bei-der-prolog-automation-gmbh-co-kg-in-freiberg-am-neckar-49874/
SUMMARY:1. Konsortialtreffen des FlexTools-Projekts bei der ProLog Automation GmbH &amp;amp; Co. KG in Freiberg am Neckar
END:VEVENT
BEGIN:VEVENT
TZID:Central Europe Standard Time
UID:news-49845@lfo.mb.tu-dortmund.de
DTSTAMP:20260318T063424Z

DTSTART:20240730T083100
DTEND:20240730T083100


DESCRIPTION:https://lfo.mb.tu-dortmund.de/veranstaltungsdetail/second-white-paper-about-expert-interviews-published-49845/
SUMMARY:Second white paper about expert interviews published
END:VEVENT
BEGIN:VEVENT
TZID:Central Europe Standard Time
UID:news-49856@lfo.mb.tu-dortmund.de
DTSTAMP:20260318T063442Z

DTSTART:20240625T093900
DTEND:20240625T093900


DESCRIPTION:https://lfo.mb.tu-dortmund.de/veranstaltungsdetail/first-multiplier-event-lifelong-learning-in-procurement-49856/
SUMMARY:First multiplier event „Lifelong Learning in Procurement“
END:VEVENT
BEGIN:VEVENT
TZID:Central Europe Standard Time
UID:news-49858@lfo.mb.tu-dortmund.de
DTSTAMP:20260318T063304Z

DTSTART:20240430T094300
DTEND:20240430T094300


DESCRIPTION:https://lfo.mb.tu-dortmund.de/veranstaltungsdetail/expertise-project-team-at-ipsera-conference-2024-49858/
SUMMARY:EXPERTISE project team at IPSERA conference 2024
END:VEVENT
BEGIN:VEVENT
TZID:Central Europe Standard Time
UID:news-49860@lfo.mb.tu-dortmund.de
DTSTAMP:20260318T063516Z

DTSTART:20240117T095400
DTEND:20240117T095400


DESCRIPTION:https://lfo.mb.tu-dortmund.de/veranstaltungsdetail/first-white-paper-about-literature-review-published-49860/
SUMMARY:First white paper about literature review published
END:VEVENT
END:VCALENDAR
